BEGIN:VCALENDAR
VERSION:2.0
PRODID:-//Herredshusets venner - ECPv6.15.20//NONSGML v1.0//EN
CALSCALE:GREGORIAN
METHOD:PUBLISH
X-WR-CALNAME:Herredshusets venner
X-ORIGINAL-URL:https://herredshusetsvenner.no
X-WR-CALDESC:Arrangement for Herredshusets venner
REFRESH-INTERVAL;VALUE=DURATION:PT1H
X-Robots-Tag:noindex
X-PUBLISHED-TTL:PT1H
BEGIN:VTIMEZONE
TZID:Europe/Oslo
BEGIN:DAYLIGHT
TZOFFSETFROM:+0100
TZOFFSETTO:+0200
TZNAME:CEST
DTSTART:20230326T010000
END:DAYLIGHT
BEGIN:STANDARD
TZOFFSETFROM:+0200
TZOFFSETTO:+0100
TZNAME:CET
DTSTART:20231029T010000
END:STANDARD
BEGIN:DAYLIGHT
TZOFFSETFROM:+0100
TZOFFSETTO:+0200
TZNAME:CEST
DTSTART:20240331T010000
END:DAYLIGHT
BEGIN:STANDARD
TZOFFSETFROM:+0200
TZOFFSETTO:+0100
TZNAME:CET
DTSTART:20241027T010000
END:STANDARD
BEGIN:DAYLIGHT
TZOFFSETFROM:+0100
TZOFFSETTO:+0200
TZNAME:CEST
DTSTART:20250330T010000
END:DAYLIGHT
BEGIN:STANDARD
TZOFFSETFROM:+0200
TZOFFSETTO:+0100
TZNAME:CET
DTSTART:20251026T010000
END:STANDARD
END:VTIMEZONE
BEGIN:VEVENT
DTSTART;TZID=Europe/Oslo:20240315T160000
DTEND;TZID=Europe/Oslo:20240315T220000
DTSTAMP:20260419T172445
CREATED:20240222T120318Z
LAST-MODIFIED:20240222T120318Z
UID:689-1710518400-1710540000@herredshusetsvenner.no
SUMMARY:Åpent hus på Herredshuset
DESCRIPTION:I forbindelse med Kulturuka ønsker vi å åpne huset vårt for alle\, slik at enda flere kan komme innom og se hvilket flott hus vi har på Jessheim.
URL:https://herredshusetsvenner.no/aktiviteter/apent-hus-pa-herredshuset/
LOCATION:Herredshuset\, Gotaasalleen 6\, Jessheim\, Norge
END:VEVENT
END:VCALENDAR